BEGIN:VCALENDAR
VERSION:2.0
PRODID:Domingo do Espirito Santo
X-WR-CALNAME:Domingo do Espirito Santo
X-WR-TIMEZONE:Europe/Lisbon
X-PUBLISHED-TTL:P1W
BEGIN:VTIMEZONE
TZID:Europe/Lisbon
X-LIC-LOCATION:Europe/Lisbon
END:VTIMEZONE
BEGIN:VEVENT
UID:69e93dcb2f925
DTSTART;VALUE=DATE:20240519
SEQUENCE:0
TRANSP:OPAQUE
DTEND;VALUE=DATE:20240520
SUMMARY:Domingo do Espirito Santo
CLASS:PUBLIC
DESCRIPTION:Domingo do Espirito Santo
X-MICROSOFT-CDO-ALLDAYEVENT:TRUE
DTSTAMP:20260422T212947Z
END:VEVENT
END:VCALENDAR