BEGIN:VCALENDAR
VERSION:2.0
PRODID:RASTREIOS DIABETES E HIPERTENSÃO
X-WR-CALNAME:RASTREIOS DIABETES E HIPERTENSÃO
X-WR-TIMEZONE:Europe/Lisbon
X-PUBLISHED-TTL:P1W
BEGIN:VTIMEZONE
TZID:Europe/Lisbon
X-LIC-LOCATION:Europe/Lisbon
END:VTIMEZONE
BEGIN:VEVENT
UID:69e93ddae8a4d
DTSTART;VALUE=DATE:20240306
SEQUENCE:0
TRANSP:OPAQUE
DTEND;VALUE=DATE:20240307
SUMMARY:RASTREIOS DIABETES E HIPERTENSÃO
CLASS:PUBLIC
DESCRIPTION:No dia 6 de março\, a freguesia de Guadalupe recebe no Jardim 
 Tomás Picanço os estudantes de Medicina da Faculdade de Lisboa para faze
 rem rastreios de diabetes e hipertensão a todos os Guadalupenses.
X-MICROSOFT-CDO-ALLDAYEVENT:TRUE
DTSTAMP:20260422T213002Z
END:VEVENT
END:VCALENDAR