BEGIN:VCALENDAR
VERSION:2.0
PRODID:conto de Natal
X-WR-CALNAME:conto de Natal
X-WR-TIMEZONE:Europe/Lisbon
X-PUBLISHED-TTL:P1W
BEGIN:VTIMEZONE
TZID:Europe/Lisbon
X-LIC-LOCATION:Europe/Lisbon
END:VTIMEZONE
BEGIN:VEVENT
UID:69e93d9393d7d
DTSTART;VALUE=DATE:20241204
SEQUENCE:0
TRANSP:OPAQUE
DTEND;VALUE=DATE:20241205
SUMMARY:conto de Natal
CLASS:PUBLIC
DESCRIPTION:Conto de Natal
X-MICROSOFT-CDO-ALLDAYEVENT:TRUE
DTSTAMP:20260422T212851Z
END:VEVENT
END:VCALENDAR